BEGIN:VCALENDAR
VERSION:2.0
PRODID:icalendar-ruby
CALSCALE:GREGORIAN
METHOD:PUBLISH
BEGIN:VEVENT
DTSTAMP:20260422T082634Z
UID:9-1229544@bethlehemcovenant.tithelysetup5.com
DTSTART:20260412T153000Z
DTEND:20260412T163000Z
CLASS:PUBLIC
CREATED:20260421T201606
DESCRIPTION:Our second worship service has more modern music\, a kids momen
 t\, Children's church and nursery.
LAST-MODIFIED:20260421T201606
LOCATION:
SUMMARY:Worship Service
URL;VALUE=URI:https://bccwaverly.org/events/worship-service--9/2026-04-12
ATTACH;FILENAME=IMG_7635.jpeg;FMTTYPE=image/jpeg:https://dq5pwpg1q8ru0.clou
 dfront.net/2024/10/31/17/23/39/751657d9-ad39-473e-958a-5168f5762502/IMG_76
 35.jpeg
END:VEVENT
END:VCALENDAR
